BEGIN:VCALENDAR
VERSION:2.0
PRODID:-//eventon.com NONSGML v1.0//EN
BEGIN:VEVENT
UID:69eb4e75d88c6
DTSTAMP:20260424T130525
DTSTART:20251108T170000Z
DTEND:20251108T180000Z
TZID:Europe/Berlin
LOCATION:Kilianstädten\,  Bürgertreff Richard-Wagner-Straße 5\,  61137 Schöneck
SUMMARY:Jubiläumskonzert Quarter To Nine - WIRD VERSCHOBEN
DESCRIPTION: Das Jubiläumskonzert des Chores wird verschoben auf Frühjahr 2026. Zum 35-jährigen Bestehen präsentiert der Popchor der Musikschule die Highlights von den Anfängen bis heute mit Unterstützung anderer Ensembles der Musikschule. .fusion-body .fusion-builder-column-0{width:100% !important;margin-top : 0px;margin-bottom : 20px;}.fusion-builder-column-0 > .fusion-column-wrapper {padding-top : 0px !important;padding-right : 0px !important;margin-right : 1.92%;padding-bottom : 0px[..]\nhttps://musikschule.online/events/35-jahre-quarter-to-nine/
URL:https://musikschule.online/events/35-jahre-quarter-to-nine/
END:VEVENT
END:VCALENDAR