BEGIN:VCALENDAR
VERSION:2.0
PRODID:-//eventon.com NONSGML v1.0//EN
BEGIN:VEVENT
UID:69ece2ebd80cf
DTSTAMP:20260425T175107
DTSTART:20230709T150000Z
DTEND:20230709T173000Z
TZID:Europe/Berlin
LOCATION:Windecken\,  Willi-Salzmann-Halle Heldenberger Str. 16\,  61130 Nidderau
SUMMARY:Klassen musizieren klasse - ACHTUNG TERMINÄNDERUNG
DESCRIPTION: Zwei Konzerte von Kooperationsprojekten am Sonntag\,  09.07.2023\,  um 17:00 Uhr und um 18:30 Uhr finden in der Willi-Salzmann-Halle Windecken statt: Im ersten Konzert um 17:00 Uhr sind Streicherklassen der Kurt-Schumacher-Schule und der Friedrich-Ebert-Schule und die Orchesterklasse Jg 6 der Bertha-von-Suttner-Schule zu hören\,  im zweiten Konzert um 18:30 Uhr freuen wir[..]\nhttps://musikschule.online/events/klassen-musizieren-klasse-3/
URL:https://musikschule.online/events/klassen-musizieren-klasse-3/
END:VEVENT
END:VCALENDAR