BEGIN:VCALENDAR
VERSION:2.0
PRODID:-//eventon.com NONSGML v1.0//EN
BEGIN:VEVENT
UID:69ed8556bc169
DTSTAMP:20260426T052406
DTSTART:20211106T193000Z
DTEND:20211106T213000Z
TZID:UTC
LOCATION:Ostheim\,  Bürgerhaus Hanauer Str. 1\,  61130 Nidderau
SUMMARY:ENTFÄLLT --- Alles möglich!
DESCRIPTION: Ob im Ensemble oder solo\,  hier haben alle erwachsenen SchülerInnen die Chance\,  sich vor Publikum zu präsentieren. Immer am Start ist mit den „Imperfektionisten“ unsere aus den Erwachsenenbläserklassen entstandene Bläsergruppe. So entsteht ein einzigartiges Programm in gemütlicher Atmosphäre bei Getränken und kleinen Snacks.\nhttps://musikschule.online/events/alles-moeglich-3/
URL:https://musikschule.online/events/alles-moeglich-3/
END:VEVENT
END:VCALENDAR