BEGIN:VCALENDAR
VERSION:2.0
PRODID:-//eventon.com NONSGML v1.0//EN
BEGIN:VEVENT
UID:69e7a00ad41e2
DTSTAMP:20260421T180426
DTSTART:20190908T170000Z
DTEND:20190908T181500Z
TZID:UTC
LOCATION:Büdesheim\,  Brendelsaal im Alten Schloss Schloßstraße 12\,  61137 Schöneck
SUMMARY:Zauber der klassischen Gitarre
DESCRIPTION: Marcel Wollny (Gitarre) Die Vorstellung junger Künstler hat immer einen festen Platz in unserer Klassikreihe. In diesem Jahr präsentieren wir den Gitarristen Marcel Wollny\,  der heute an der Hochschule in Frankfurt studiert. Er wird einen großen musikalischen Bogen von Johann Sebastian Bach bis zu Paco de Lucía schlagen.\nhttps://musikschule.online/events/zauber-der-klassischen-gitarre/
URL:https://musikschule.online/events/zauber-der-klassischen-gitarre/
END:VEVENT
END:VCALENDAR