BEGIN:VCALENDAR
VERSION:2.0
PRODID:-//eventon.com NONSGML v1.0//EN
BEGIN:VEVENT
UID:69ea5ecd1ca09
DTSTAMP:20260423T200253
DTSTART:20190224T170000Z
DTEND:20190224T181500Z
TZID:UTC
LOCATION:Niederdorfelden\,  Bürgerhaus Burgstraße 5\,  61138 Niederdorfelden
SUMMARY:Frühjahrskonzert
DESCRIPTION: Das traditionelle Frühjahrskonzert der Musikschule im Bürgerhaus Niederdorfelden zeigt eine Auswahl der pädagogischen und künstlerischen Arbeit der Musikschule mit einer Reise durch verschiedene Epochen und Stile. In diesem Jahr sind für Sonntag\,  24. Februar um 17.00 Uhr alle Interessenten bei freiem Eintritt herzlich dazu eingeladen\,  fortgeschrittenen Jugendlichen zu lauschen. Auf[..]\nhttps://musikschule.online/events/3328/
URL:https://musikschule.online/events/3328/
END:VEVENT
END:VCALENDAR