BEGIN:VCALENDAR
VERSION:2.0
PRODID:-//eventon.com NONSGML v1.0//EN
BEGIN:VEVENT
UID:69ea7f94011c3
DTSTAMP:20260423T222244
DTSTART:20260811T143000Z
DTEND:20260811T151500Z
TZID:Europe/Berlin
LOCATION:Heldenbergen\,  Beethovenallee Beethovenallee 1\,  61130 Nidderau
SUMMARY:Von der Sommersonne bis zur Erntezeit
DESCRIPTION: Eltern-Kind-Kurs &#8211; Musik für Mäuse Gemeinsam erleben 2- und 3-jährige Kinder mit einer Begleitperson Musik in einer Gruppe. Es wird zusammen gesungen\,  getanzt\,  geklatscht\,  gehorcht und mit altersgerechten Instrumenten gespielt. Darüber hinaus werden verschiedene Materialien wie zum Beispiel Tücher\,  Nüsse\,  Luftballons oder Federn in das gemeinsame Musizieren einbezogen. Eine Gruppengröße[..]\nhttps://musikschule.online/events/von-der-sommersonne-bis-zur-erntezeit-20/
URL:https://musikschule.online/events/von-der-sommersonne-bis-zur-erntezeit-20/
END:VEVENT
END:VCALENDAR