BEGIN:VCALENDAR
VERSION:2.0
PRODID:-//eventon.com NONSGML v1.0//EN
BEGIN:VEVENT
UID:69ea8150c525b
DTSTAMP:20260423T223008
DTSTART:20260810T141500Z
DTEND:20260810T150000Z
TZID:Europe/Berlin
LOCATION:Kilianstädten\,  Bürgertreff Richard-Wagner-Straße 5\,  61137 Schöneck
SUMMARY:Von der Sommersonne bis zur Erntezeit
DESCRIPTION: Eltern-Kind-Kurs &#8211; Musik für Mäuse Gemeinsam erleben 2- und 3-jährige Kinder mit einer Begleitperson Musik in einer Gruppe. Es wird zusammen gesungen\,  getanzt\,  geklatscht\,  gehorcht und mit altersgerechten Instrumenten gespielt. Darüber hinaus werden verschiedene Materialien wie zum Beispiel Tücher\,  Nüsse\,  Luftballons oder Federn in das gemeinsame Musizieren einbezogen. Eine Gruppengröße[..]\nhttps://musikschule.online/events/von-der-sommersonne-bis-zur-erntezeit-19/
URL:https://musikschule.online/events/von-der-sommersonne-bis-zur-erntezeit-19/
END:VEVENT
END:VCALENDAR